BEGIN:VCALENDAR
VERSION:2.0
PRODID:-//St Attractas NS - ECPv6.15.13//NONSGML v1.0//EN
CALSCALE:GREGORIAN
METHOD:PUBLISH
X-ORIGINAL-URL:https://stattractasns.ie
X-WR-CALDESC:Events for St Attractas NS
REFRESH-INTERVAL;VALUE=DURATION:PT1H
X-Robots-Tag:noindex
X-PUBLISHED-TTL:PT1H
BEGIN:VTIMEZONE
TZID:Europe/Dublin
BEGIN:DAYLIGHT
TZOFFSETFROM:+0000
TZOFFSETTO:+0100
TZNAME:IST
DTSTART:20230326T010000
END:DAYLIGHT
BEGIN:STANDARD
TZOFFSETFROM:+0100
TZOFFSETTO:+0000
TZNAME:GMT
DTSTART:20231029T010000
END:STANDARD
BEGIN:DAYLIGHT
TZOFFSETFROM:+0000
TZOFFSETTO:+0100
TZNAME:IST
DTSTART:20240331T010000
END:DAYLIGHT
BEGIN:STANDARD
TZOFFSETFROM:+0100
TZOFFSETTO:+0000
TZNAME:GMT
DTSTART:20241027T010000
END:STANDARD
BEGIN:DAYLIGHT
TZOFFSETFROM:+0000
TZOFFSETTO:+0100
TZNAME:IST
DTSTART:20250330T010000
END:DAYLIGHT
BEGIN:STANDARD
TZOFFSETFROM:+0100
TZOFFSETTO:+0000
TZNAME:GMT
DTSTART:20251026T010000
END:STANDARD
END:VTIMEZONE
BEGIN:VEVENT
DTSTART;VALUE=DATE:20240621
DTEND;VALUE=DATE:20240828
DTSTAMP:20260425T043735
CREATED:20240618T142621Z
LAST-MODIFIED:20240618T142621Z
UID:12423-1718928000-1724803199@stattractasns.ie
SUMMARY:Summer Holiday
DESCRIPTION:School closes for the Summer Holiday on Friday\, June 21st at 12 noon and reopens on Wednesday\, August 28th at 9.15am. We hope all our students\, teachers and family members enjoy a very healthy and happy break.
URL:https://stattractasns.ie/event/summer-holiday-2/
ATTACH;FMTTYPE=image/jpeg:https://stattractasns.ie/wp-content/uploads/2024/06/PHOTO-2024-06-18-14-49-07.jpg
END:VEVENT
END:VCALENDAR