BEGIN:VCALENDAR
VERSION:2.0
PRODID:-//St Attractas NS - ECPv6.15.13//NONSGML v1.0//EN
CALSCALE:GREGORIAN
METHOD:PUBLISH
X-WR-CALNAME:St Attractas NS
X-ORIGINAL-URL:https://stattractasns.ie
X-WR-CALDESC:Events for St Attractas NS
REFRESH-INTERVAL;VALUE=DURATION:PT1H
X-Robots-Tag:noindex
X-PUBLISHED-TTL:PT1H
BEGIN:VTIMEZONE
TZID:Europe/Dublin
BEGIN:DAYLIGHT
TZOFFSETFROM:+0000
TZOFFSETTO:+0100
TZNAME:IST
DTSTART:20250330T010000
END:DAYLIGHT
BEGIN:STANDARD
TZOFFSETFROM:+0100
TZOFFSETTO:+0000
TZNAME:GMT
DTSTART:20251026T010000
END:STANDARD
BEGIN:DAYLIGHT
TZOFFSETFROM:+0000
TZOFFSETTO:+0100
TZNAME:IST
DTSTART:20260329T010000
END:DAYLIGHT
BEGIN:STANDARD
TZOFFSETFROM:+0100
TZOFFSETTO:+0000
TZNAME:GMT
DTSTART:20261025T010000
END:STANDARD
BEGIN:DAYLIGHT
TZOFFSETFROM:+0000
TZOFFSETTO:+0100
TZNAME:IST
DTSTART:20270328T010000
END:DAYLIGHT
BEGIN:STANDARD
TZOFFSETFROM:+0100
TZOFFSETTO:+0000
TZNAME:GMT
DTSTART:20271031T010000
END:STANDARD
END:VTIMEZONE
BEGIN:VEVENT
DTSTART;VALUE=DATE:20260101
DTEND;VALUE=DATE:20260701
DTSTAMP:20260423T131142
CREATED:20250929T102115Z
LAST-MODIFIED:20260126T132859Z
UID:12787-1767225600-1782863999@stattractasns.ie
SUMMARY:School Activities Calendar 25/26
DESCRIPTION:Please find our updated School Activities Calendar: \n \nSchool Activities Calendar 202526
URL:https://stattractasns.ie/event/school-activities-calendar-25-26/
ATTACH;FMTTYPE=image/jpeg:https://stattractasns.ie/wp-content/uploads/2025/09/School-Activities-Calendar-202526.jpg
END:VEVENT
END:VCALENDAR