BEGIN:VCALENDAR
VERSION:2.0
PRODID:-//St Attractas NS - ECPv6.15.13//NONSGML v1.0//EN
CALSCALE:GREGORIAN
METHOD:PUBLISH
X-WR-CALNAME:St Attractas NS
X-ORIGINAL-URL:https://stattractasns.ie
X-WR-CALDESC:Events for St Attractas NS
REFRESH-INTERVAL;VALUE=DURATION:PT1H
X-Robots-Tag:noindex
X-PUBLISHED-TTL:PT1H
BEGIN:VTIMEZONE
TZID:Europe/Dublin
BEGIN:DAYLIGHT
TZOFFSETFROM:+0000
TZOFFSETTO:+0100
TZNAME:IST
DTSTART:20210328T010000
END:DAYLIGHT
BEGIN:STANDARD
TZOFFSETFROM:+0100
TZOFFSETTO:+0000
TZNAME:GMT
DTSTART:20211031T010000
END:STANDARD
BEGIN:DAYLIGHT
TZOFFSETFROM:+0000
TZOFFSETTO:+0100
TZNAME:IST
DTSTART:20220327T010000
END:DAYLIGHT
BEGIN:STANDARD
TZOFFSETFROM:+0100
TZOFFSETTO:+0000
TZNAME:GMT
DTSTART:20221030T010000
END:STANDARD
BEGIN:DAYLIGHT
TZOFFSETFROM:+0000
TZOFFSETTO:+0100
TZNAME:IST
DTSTART:20230326T010000
END:DAYLIGHT
BEGIN:STANDARD
TZOFFSETFROM:+0100
TZOFFSETTO:+0000
TZNAME:GMT
DTSTART:20231029T010000
END:STANDARD
BEGIN:DAYLIGHT
TZOFFSETFROM:+0000
TZOFFSETTO:+0100
TZNAME:IST
DTSTART:20240331T010000
END:DAYLIGHT
BEGIN:STANDARD
TZOFFSETFROM:+0100
TZOFFSETTO:+0000
TZNAME:GMT
DTSTART:20241027T010000
END:STANDARD
END:VTIMEZONE
BEGIN:VEVENT
DTSTART;VALUE=DATE:20231219
DTEND;VALUE=DATE:20231220
DTSTAMP:20260424T151027
CREATED:20231212T133841Z
LAST-MODIFIED:20231212T133841Z
UID:11818-1702944000-1703030399@stattractasns.ie
SUMMARY:Animal Rumble Grumble
DESCRIPTION:Junior Infants to Second Class are very excited to bring you Animal Rumble Grumble – The Musical on Tuesday\, December 19th @7pm in the CBD Complex. This promises to be a wonderful evening\, full of song. dance and cheer. Further details will follow to all our families.
URL:https://stattractasns.ie/event/animal-rumble-grumble/
ATTACH;FMTTYPE=image/jpeg:https://stattractasns.ie/wp-content/uploads/2023/12/PHOTO-2023-12-12-13-25-32-scaled.jpg
END:VEVENT
BEGIN:VEVENT
DTSTART;VALUE=DATE:20231219
DTEND;VALUE=DATE:20231220
DTSTAMP:20260424T151027
CREATED:20231121T124446Z
LAST-MODIFIED:20231212T133717Z
UID:11774-1702944000-1703030399@stattractasns.ie
SUMMARY:Peace Child - The Musical
DESCRIPTION:Our 3rd to 6th Classes are very excited to bring you Peace Child – The Musical on Tuesday\, December 19th @7pm in the CBD Complex. This promises to be a wonderful evening\, full of song. dance and cheer. Further details will follow to all our families.
URL:https://stattractasns.ie/event/peace-child-the-musical/
ATTACH;FMTTYPE=application/pdf:https://stattractasns.ie/wp-content/uploads/2023/11/THE-PEACE-CHILD.pdf
END:VEVENT
BEGIN:VEVENT
DTSTART;VALUE=DATE:20231214
DTEND;VALUE=DATE:20231215
DTSTAMP:20260424T151027
CREATED:20231212T134147Z
LAST-MODIFIED:20231212T134147Z
UID:11821-1702512000-1702598399@stattractasns.ie
SUMMARY:The Gingerbread Man
DESCRIPTION:The staff and students of Sonas are very excited to bring you The Gingerbread Man on Thursday\, December 14th @10am here in school. This promises to be a wonderful morning\, full of song. dance and cheer. Further details will follow to all our families.
URL:https://stattractasns.ie/event/the-gingerbread-man/
ATTACH;FMTTYPE=image/jpeg:https://stattractasns.ie/wp-content/uploads/2023/12/PHOTO-2023-12-11-14-48-48-scaled.jpg
END:VEVENT
BEGIN:VEVENT
DTSTART;VALUE=DATE:20231128
DTEND;VALUE=DATE:20231129
DTSTAMP:20260424T151027
CREATED:20231121T125029Z
LAST-MODIFIED:20231121T125029Z
UID:11777-1701129600-1701215999@stattractasns.ie
SUMMARY:Grow in Love - Second Class Parent Meeting
DESCRIPTION:The second of our Grow in Love Parents Meetings will take place on Tuesday\, November 28th at 7.45 pm in the Pastoral Centre. We look forward to seeing you all then!
URL:https://stattractasns.ie/event/grow-in-love-second-class-parent-meeting/
ATTACH;FMTTYPE=image/jpeg:https://stattractasns.ie/wp-content/uploads/2023/11/download.jpg
END:VEVENT
BEGIN:VEVENT
DTSTART;VALUE=DATE:20231115
DTEND;VALUE=DATE:20231117
DTSTAMP:20260424T151027
CREATED:20221107T222420Z
LAST-MODIFIED:20231026T225900Z
UID:10895-1700006400-1700179199@stattractasns.ie
SUMMARY:Parent Teacher Meetings November 16th/17th
DESCRIPTION:Our Parent Teacher Meetings take place on Wednesday\, November 15th and Thursday\, November 16th. Thank you to all our families who have confirmed their meeting appointments through the Aladdin App.
URL:https://stattractasns.ie/event/parent-teacher-meetings-november-16th-and-17th/
ATTACH;FMTTYPE=image/jpeg:https://stattractasns.ie/wp-content/uploads/2022/10/604ae1ff-0766-4a6d-9507-9259cb40ee5e-scaled.jpg
END:VEVENT
BEGIN:VEVENT
DTSTART;VALUE=DATE:20231027
DTEND;VALUE=DATE:20231028
DTSTAMP:20260424T151027
CREATED:20221023T154420Z
LAST-MODIFIED:20231026T225714Z
UID:10854-1698364800-1698451199@stattractasns.ie
SUMMARY:Halloween Fancy Dress
DESCRIPTION:We will have a Halloween Fancy Dress assembly on Friday\, October 27th. All students can come to school in their Halloween Costumes.
URL:https://stattractasns.ie/event/halloween-fancy-dress-assembly/
ATTACH;FMTTYPE=image/jpeg:https://stattractasns.ie/wp-content/uploads/2021/11/IMG_8841.jpeg
END:VEVENT
BEGIN:VEVENT
DTSTART;VALUE=DATE:20231025
DTEND;VALUE=DATE:20231026
DTSTAMP:20260424T151027
CREATED:20231020T222211Z
LAST-MODIFIED:20231020T222211Z
UID:11687-1698192000-1698278399@stattractasns.ie
SUMMARY:Mini 7's Quarter Final v Carramore NS
DESCRIPTION:Our Girls’ team play their Mini 7’s Quarter-Final v Carramore NS on Wednesday 25th at 10.30 am at the Swinford Amenity Park. We wish them well!
URL:https://stattractasns.ie/event/mini-7s-quarter-final-v-carramore-ns/
ATTACH;FMTTYPE=image/jpeg:https://stattractasns.ie/wp-content/uploads/2023/10/aef703ea-3364-4111-ae3a-05c17e6e7cf2.jpg
END:VEVENT
BEGIN:VEVENT
DTSTART;VALUE=DATE:20231013
DTEND;VALUE=DATE:20231014
DTSTAMP:20260424T151027
CREATED:20231009T094954Z
LAST-MODIFIED:20231009T095043Z
UID:11647-1697155200-1697241599@stattractasns.ie
SUMMARY:Superheroes Day
DESCRIPTION:To help launch the East Mayo Special Olympics club\, we will be supporting their Super Hero Day next Friday 13th October. \nOn this day we’re asking all children to dress up as their favourite superhero\, sports star\, book character\, or whomever they think is the best superhero! Or maybe they can be creative and showcase their own hidden super power as not all heroes wear capes. \nYou don’t need to buy a costume but the children can wear one you already have\, or they can wear their own clothes and describe what their superpower is. Some of the suggestions from the children themselves today were SUPERfriend\, SUPERfunny\, SUPERclever\, SUPERorganised\, SUPERreader\, SUPERfast. \nDonations are voluntary and if you would like to donate then we would suggest €2 per child on the day. \nAll monies raised will go towards the work that Special Olympics do to support children with intellectual disability to realise their dreams.
URL:https://stattractasns.ie/event/superheroes-day/
ATTACH;FMTTYPE=image/jpeg:https://stattractasns.ie/wp-content/uploads/2023/10/2a7a8894-63a9-44d5-8adf-5ff61b1adf44-scaled.jpg
END:VEVENT
BEGIN:VEVENT
DTSTART;VALUE=DATE:20230927
DTEND;VALUE=DATE:20231116
DTSTAMP:20260424T151027
CREATED:20230925T104835Z
LAST-MODIFIED:20230925T123622Z
UID:11627-1695772800-1700092799@stattractasns.ie
SUMMARY:Say Yes to Modern Languages
DESCRIPTION:Say Yes to Modern Languages begins in our 3rd to 6th classes. This module facilitates us to introduce a Modern Foreign Language ‘French’ to our third to sixth-class pupils. \n 
URL:https://stattractasns.ie/event/say-yes-to-modern-languages/
ATTACH;FMTTYPE=image/png:https://stattractasns.ie/wp-content/uploads/2023/09/Say-Yes-to-French.png
END:VEVENT
BEGIN:VEVENT
DTSTART;VALUE=DATE:20230925
DTEND;VALUE=DATE:20230926
DTSTAMP:20260424T151027
CREATED:20220923T223031Z
LAST-MODIFIED:20231009T094105Z
UID:10772-1695600000-1695686399@stattractasns.ie
SUMMARY:Mayo Cross Country
DESCRIPTION:The County Mayo Cross Country competitions will be held on Thursday\, September 28th in Belleek\, Ballina at 11 am sharp.
URL:https://stattractasns.ie/event/mayo-cross-country/
ATTACH;FMTTYPE=image/jpeg:https://stattractasns.ie/wp-content/uploads/2023/09/b8a89ba7-ca5d-4f70-bc9d-0ddedfc62827-scaled.jpg
END:VEVENT
BEGIN:VEVENT
DTSTART;TZID=Europe/Dublin:20230830T080000
DTEND;TZID=Europe/Dublin:20230901T170000
DTSTAMP:20260424T151027
CREATED:20230829T211232Z
LAST-MODIFIED:20230829T211335Z
UID:11557-1693382400-1693587600@stattractasns.ie
SUMMARY:Reopening of School 2023/24
DESCRIPTION:School reopens for all students at 9.15 am. We look forward to welcoming all our pupils\, parents and staff back to St.Attracta’s NS.
URL:https://stattractasns.ie/event/reopening-of-school-2023-24/
ATTACH;FMTTYPE=application/pdf:https://stattractasns.ie/wp-content/uploads/2023/08/School-calendar-2324.pdf
END:VEVENT
BEGIN:VEVENT
DTSTART;VALUE=DATE:20230623
DTEND;VALUE=DATE:20230830
DTSTAMP:20260424T151027
CREATED:20220617T113019Z
LAST-MODIFIED:20230829T210944Z
UID:10623-1687478400-1693353599@stattractasns.ie
SUMMARY:Summer Holiday
DESCRIPTION:School closes at 12 noon for our Summer break. We re-open on Wednesday\, August 30th. We hope all our pupils and staff have a well-earned break from school.
URL:https://stattractasns.ie/event/summer-holiday/
ATTACH;FMTTYPE=image/jpeg:https://stattractasns.ie/wp-content/uploads/2022/06/images.jpg
END:VEVENT
BEGIN:VEVENT
DTSTART;VALUE=DATE:20230622
DTEND;VALUE=DATE:20230623
DTSTAMP:20260424T151027
CREATED:20230612T122126Z
LAST-MODIFIED:20230612T122448Z
UID:11516-1687392000-1687478399@stattractasns.ie
SUMMARY:End of Year Graduations Thursday 22nd
DESCRIPTION:We will have our end-of-year graduations on Thursday. June 22nd. Further details of the arrangements for the various classes will follow.
URL:https://stattractasns.ie/event/end-of-year-graduations-thursday-22nd/
ATTACH;FMTTYPE=image/jpeg:https://stattractasns.ie/wp-content/uploads/2023/06/images-1.jpg
END:VEVENT
BEGIN:VEVENT
DTSTART;VALUE=DATE:20230609
DTEND;VALUE=DATE:20230610
DTSTAMP:20260424T151027
CREATED:20220513T094650Z
LAST-MODIFIED:20230607T214808Z
UID:10564-1686268800-1686355199@stattractasns.ie
SUMMARY:Enrolment 23/24: Second Visit of our new Junior Infant Class
DESCRIPTION:On Friday\, June 8th we are delighted to welcome our incoming Junior Infants 22/23 to school. This follows the student’s visit of Friday\, February 10th. \nDuring this visit\, the children will have an opportunity to visit their classroom\, meet classmates and school staff and become familiar with their surroundings. \nA key component of the afternoon will be a Parent’s Information presentation. Here\, we hope many of the questions you might have at this time will be answered. \nDuring this presentation\, we will … \n\noutline some helpful tips to assist you and your child with their transition to our school.\nclarify our Book Rental Scheme.\nprovide an overview of our school\, recent developments and future plans.\nintroduction to our school management system\nschool uniform/tracksuit order
URL:https://stattractasns.ie/event/enrolment-22-23-visit-of-our-new-junior-infant-class/
ATTACH;FMTTYPE=image/jpeg:https://stattractasns.ie/wp-content/uploads/2023/01/Enrolment-poster-2-scaled.jpg
END:VEVENT
BEGIN:VEVENT
DTSTART;VALUE=DATE:20230608
DTEND;VALUE=DATE:20230609
DTSTAMP:20260424T151027
CREATED:20230526T223459Z
LAST-MODIFIED:20230526T223459Z
UID:11494-1686182400-1686268799@stattractasns.ie
SUMMARY:Cumann na mBunscol Finals
DESCRIPTION:Our girls’ and boys’ teams play in the Cumann na mBunscol Finals on Thursday\, June at 10.40 and 11.20 respectively at McHale Park. Further details will follow in the coming week.
URL:https://stattractasns.ie/event/cumann-na-mbunscol-finals/
ATTACH;FMTTYPE=image/jpeg:https://stattractasns.ie/wp-content/uploads/2023/05/174A9443-St-Attractas-NS-Charlestown-Girls-Div-2A-scaled.jpg
END:VEVENT
BEGIN:VEVENT
DTSTART;VALUE=DATE:20230527
DTEND;VALUE=DATE:20230528
DTSTAMP:20260424T151027
CREATED:20230505T130748Z
LAST-MODIFIED:20230505T130835Z
UID:11437-1685145600-1685231999@stattractasns.ie
SUMMARY:First Holy Communion - Second Class
DESCRIPTION:Mr.Rushe’s Second Class will make their First Holy Communion on Saturday\, May 27th at 12 noon. We hope the students and their families enjoy this very special day.
URL:https://stattractasns.ie/event/first-holy-communion-2/
ATTACH;FMTTYPE=image/jpeg:https://stattractasns.ie/wp-content/uploads/2014/05/Communion.jpg
END:VEVENT
BEGIN:VEVENT
DTSTART;VALUE=DATE:20230513
DTEND;VALUE=DATE:20230514
DTSTAMP:20260424T151027
CREATED:20230505T130418Z
LAST-MODIFIED:20230505T130418Z
UID:11434-1683936000-1684022399@stattractasns.ie
SUMMARY:Confirmation - 5th/6th/Sonas
DESCRIPTION:The Students of 5th/6th and Sonas will make their Confirmation on Saturday\, May 13th. We hope each of the students and their families enjoy this very special day!
URL:https://stattractasns.ie/event/confirmation-5th-6th-sonas/
ATTACH;FMTTYPE=image/jpeg:https://stattractasns.ie/wp-content/uploads/2023/05/download.jpg
END:VEVENT
BEGIN:VEVENT
DTSTART;VALUE=DATE:20230428
DTEND;VALUE=DATE:20230429
DTSTAMP:20260424T151027
CREATED:20220321T104813Z
LAST-MODIFIED:20230320T142531Z
UID:10443-1682640000-1682726399@stattractasns.ie
SUMMARY:Primary Language Curriculum Staff Development Day Closure
DESCRIPTION:School will be closed on Friday\, April 28th to allow for a Staff Development Day for the Primary Language Curriculum. \nWe re-open again at the usual time on Tuesday\, May 2nd.
URL:https://stattractasns.ie/event/primary-language-curriculum-staff-development-half-day-closure/
ATTACH;FMTTYPE=image/jpeg:https://stattractasns.ie/wp-content/uploads/2022/03/download.jpg
END:VEVENT
BEGIN:VEVENT
DTSTART;VALUE=DATE:20230313
DTEND;VALUE=DATE:20230318
DTSTAMP:20260424T151027
CREATED:20230307T102449Z
LAST-MODIFIED:20230307T103758Z
UID:11293-1678665600-1679097599@stattractasns.ie
SUMMARY:Seachtain na Gaeilge 2023
DESCRIPTION:Tá Seachtain na Gaeilge ar siúl ón 13ú Márta go dtí an 16ú Márta. Táimid ag súil go mór leis.
URL:https://stattractasns.ie/event/seachtain-na-gaeilge-2023/
ATTACH;FMTTYPE=image/jpeg:https://stattractasns.ie/wp-content/uploads/2023/03/download-1.jpg
END:VEVENT
BEGIN:VEVENT
DTSTART;VALUE=DATE:20230112
DTEND;VALUE=DATE:20230304
DTSTAMP:20260424T151027
CREATED:20220114T132232Z
LAST-MODIFIED:20230223T153007Z
UID:10251-1673481600-1677887999@stattractasns.ie
SUMMARY:Enrolment 23/24
DESCRIPTION:Our Enrolment Application Form for the new school year 22/23 is now available from the homepage of our website www.stattractasns.ie \nWe would be very grateful if you could download this form and send it back by email (scanned copy) to office@stattractasns.ie or by post to our school. \nWe would also appreciate it if you could fill in a short pre-enrolment form through the following link https://www.aladdin.ie/i/5142428197584896 \nThank you to all who have done so to date. \nShould you have any queries or questions\, please do not hesitate to get in contact by email at office@stattractasns.ie or by telephone at (094)9254905.
URL:https://stattractasns.ie/event/enrolment-22-23/
ATTACH;FMTTYPE=application/pdf:https://stattractasns.ie/wp-content/uploads/2022/01/Enrolment-poster.pdf
END:VEVENT
BEGIN:VEVENT
DTSTART;VALUE=DATE:20221219
DTEND;VALUE=DATE:20221220
DTSTAMP:20260424T151027
CREATED:20221117T232211Z
LAST-MODIFIED:20221207T220010Z
UID:10961-1671408000-1671494399@stattractasns.ie
SUMMARY:The Story of Christmas - Save the Date
DESCRIPTION:Save the Date!  On Monday\, December 19th at 7 pm in St. James’ Church we will have our Christmas Choral Service  – The Story of Christmas through song. Preparations are advanced in school and we are very much looking forward to this special evening. We hope you can join us!
URL:https://stattractasns.ie/event/the-story-of-christmas-save-the-date/
ATTACH;FMTTYPE=application/pdf:https://stattractasns.ie/wp-content/uploads/2022/11/The-Christmas-Story-Through-Song.pdf
END:VEVENT
BEGIN:VEVENT
DTSTART;VALUE=DATE:20221129
DTEND;VALUE=DATE:20221130
DTSTAMP:20260424T151027
CREATED:20221117T230510Z
LAST-MODIFIED:20221117T232327Z
UID:10957-1669680000-1669766399@stattractasns.ie
SUMMARY:Internet Safety Presentation Students / Parents
DESCRIPTION:On Tuesday\, November 29th we welcome Ger Brick to deliver Internet Safety Presentations to our pupils in 4th\, 5th and 6th Class. The themes and activities included can be found below: \nWorkshop Themes\nActivities\nCommunicating Respectfully Online.\nPopular Apps Discussion\nCyberbullying Rules\nCyberbullying & Online Safety Videos\nConsequences & the Law\nGroup Work / Individual Exercises\nKeeping Safe Online\nRole play / Q&A / Discussion\nYour Personal Information / Privacy\nPost Training Material\nOnline Safety Guidelines \nFollowing the children’s presentation\, a parent information evening will be held online at 7.30 pm.
URL:https://stattractasns.ie/event/internet-safety-presentation-students-parents/
ATTACH;FMTTYPE=image/jpeg:https://stattractasns.ie/wp-content/uploads/2022/11/download.jpg
END:VEVENT
BEGIN:VEVENT
DTSTART;TZID=Europe/Dublin:20221122T180000
DTEND;TZID=Europe/Dublin:20221123T200000
DTSTAMP:20260424T151027
CREATED:20221121T094935Z
LAST-MODIFIED:20221121T095337Z
UID:10997-1669140000-1669233600@stattractasns.ie
SUMMARY:3rd to 6th Class Community Art Project Exhibition - Maypole Mining Disaster
DESCRIPTION:Students from 3rd – 6th class have recently taken part in a community participation art project. This has been made possible by the support of the Charlestown Community Development group and funding secured by the Mayo County Council Arts Office. \nThis project is to commemorate the 75 lives lost in the 1908 Maypole Mining disaster in Wigan\, UK. A number of those lives lost came from Co. Mayo\, some of which hailed from the Charlestown area. We are very lucky to have been invited to take part in this project and to have worked with and been guided by the very talented and helpful lantern sculpture artist Tom Meskell. \nThe children’s work will be exhibited and open to our school community from 6-8 pm on Tuesday / Wednesday\, November 22nd/23rd. It was a wonderful experience for the children and we are very proud of their hard work and effort. \nThere is an open invitation to all\, to visit the exhibition and admire this wonderful project and the children’s work. We would love to see you there.
URL:https://stattractasns.ie/event/3rd-to-6th-class-community-art-project-exhibition-maypole-mining-disaster/
ATTACH;FMTTYPE=image/jpeg:https://stattractasns.ie/wp-content/uploads/2022/11/a81a56ce-9e2d-4c79-86d3-c5ac30af67f0.jpg
END:VEVENT
BEGIN:VEVENT
DTSTART;VALUE=DATE:20221117
DTEND;VALUE=DATE:20221118
DTSTAMP:20260424T151027
CREATED:20221023T154100Z
LAST-MODIFIED:20221110T130049Z
UID:10852-1668643200-1668729599@stattractasns.ie
SUMMARY:Mini 7's Semi Finals @ Connacht GAA COE (Dome)
DESCRIPTION:Our Girls Mini 7’s Semi Final takes place at the Connacht GAA COE (Dome) at 11.30 am. Further details will follow.
URL:https://stattractasns.ie/event/mini-7s-quarter-final-v-bohola-ns/
ATTACH;FMTTYPE=image/jpeg:https://stattractasns.ie/wp-content/uploads/2022/11/a8255811-008e-4142-ac46-569612d69e11-scaled.jpg
END:VEVENT
BEGIN:VEVENT
DTSTART;VALUE=DATE:20221022
DTEND;VALUE=DATE:20221023
DTSTAMP:20260424T151027
CREATED:20221014T212732Z
LAST-MODIFIED:20221014T212732Z
UID:10812-1666396800-1666483199@stattractasns.ie
SUMMARY:Connacht Cross Country
DESCRIPTION:Good luck to our Junior Boys Cross Country team who take part in the Connacht Cross Country Finals at Moyne Community College Longford at 11 am.
URL:https://stattractasns.ie/event/connacht-cross-country/
ATTACH;FMTTYPE=image/jpeg:https://stattractasns.ie/wp-content/uploads/2022/10/IMG_9879-scaled.jpeg
END:VEVENT
BEGIN:VEVENT
DTSTART;VALUE=DATE:20221017
DTEND;VALUE=DATE:20221022
DTSTAMP:20260424T151027
CREATED:20221014T213245Z
LAST-MODIFIED:20221014T213453Z
UID:10814-1665964800-1666396799@stattractasns.ie
SUMMARY:Maths Week 22
DESCRIPTION:We celebrate Maths Week in school with many exciting events planned for all classes.
URL:https://stattractasns.ie/event/maths-week-22/
ATTACH;FMTTYPE=image/png:https://stattractasns.ie/wp-content/uploads/2022/10/download.png
END:VEVENT
BEGIN:VEVENT
DTSTART;VALUE=DATE:20221007
DTEND;VALUE=DATE:20221008
DTSTAMP:20260424T151027
CREATED:20221003T110959Z
LAST-MODIFIED:20221003T122119Z
UID:10783-1665100800-1665187199@stattractasns.ie
SUMMARY:East Mayo Mini 7's
DESCRIPTION:The East Mayo Mini 7’s take place on Friday\, October 7th in Fr. O’Hara Park Charlestown\, We look forward to a great morning!
URL:https://stattractasns.ie/event/east-mayo-mini-7s/
ATTACH;FMTTYPE=image/jpeg:https://stattractasns.ie/wp-content/uploads/2022/06/99026f1c-d46d-4226-ab48-bd27beb612ab-1-scaled.jpg
END:VEVENT
BEGIN:VEVENT
DTSTART;VALUE=DATE:20220922
DTEND;VALUE=DATE:20220923
DTSTAMP:20260424T151027
CREATED:20220919T212107Z
LAST-MODIFIED:20220919T212107Z
UID:10749-1663804800-1663891199@stattractasns.ie
SUMMARY:East Mayo Cross Country Finals
DESCRIPTION:EAST MAYO NATIONAL SCHOOLS CROSS COUNTRY \nDate: Thursday 22nd September 2022 \nTime: First Race 11 am sharp \nVenue: Mellett’s Hill\, Swinford \nParking: F12 VR82
URL:https://stattractasns.ie/event/east-mayo-cross-country-finals/
ATTACH;FMTTYPE=image/jpeg:https://stattractasns.ie/wp-content/uploads/2021/09/6f1dbcd3-90f5-4d12-86de-ff64b29b08e4.jpg
END:VEVENT
BEGIN:VEVENT
DTSTART;VALUE=DATE:20220623
DTEND;VALUE=DATE:20220624
DTSTAMP:20260424T151027
CREATED:20220617T112136Z
LAST-MODIFIED:20220617T112136Z
UID:10620-1655942400-1656028799@stattractasns.ie
SUMMARY:Sixth Class Graduation
DESCRIPTION:Best wishes to our 6th Class who will graduate from school on Thursday evening June 23rd at a special mass in St.James’ Church. \nWe wish each of these wonderful students well as they open a new chapter in their lives.
URL:https://stattractasns.ie/event/sixth-class-graduation/
ATTACH;FMTTYPE=image/jpeg:https://stattractasns.ie/wp-content/uploads/2022/06/D83F9C2E-3F1B-42C0-8539-F749F7D94193_1_105_c.jpeg
END:VEVENT
BEGIN:VEVENT
DTSTART;VALUE=DATE:20220614
DTEND;VALUE=DATE:20220615
DTSTAMP:20260424T151027
CREATED:20220609T085203Z
LAST-MODIFIED:20220613T101531Z
UID:10590-1655164800-1655251199@stattractasns.ie
SUMMARY:Cumann na mBunscol Girls County Final v Behy NS
DESCRIPTION:Best of luck to our Girls team who play in their County Final v Behy at 1 pm in the Centre of Excellence. \nWe would appreciate all your support.
URL:https://stattractasns.ie/event/cumann-an-mbunscol-girls-semi-final/
ATTACH;FMTTYPE=image/jpeg:https://stattractasns.ie/wp-content/uploads/2022/06/IMG_8688-scaled.jpeg
END:VEVENT
END:VCALENDAR